BEGIN:VCALENDAR
VERSION:2.0
PRODID:-//ChamberMaster//Event Calendar 2.0//EN
METHOD:PUBLISH
X-PUBLISHED-TTL:P3D
REFRESH-INTERVAL:P3D
CALSCALE:GREGORIAN
BEGIN:VEVENT
DTSTART:20150516T153000Z
DTEND:20150516T180000Z
X-MICROSOFT-CDO-ALLDAYEVENT:FALSE
SUMMARY:5K Eagle Color Run
DESCRIPTION:A Color Run is a 5K race which incorporates participants being showered with powdered paint at three different stations on the course. Participants will be very colorful when they cross the finish line. The powder will wash out of clothing\, shoes\, and hair. The paint is non-toxic and will not harm you or the environment. You will need to bring protective eyewear\, to ensure the powder doesn't get into your eyes during the race. *Money raised goes to support Paris Eagle High School Band.
X-ALT-DESC;FMTTYPE=text/html:A Color Run is a 5K race which incorporates participants being showered with powdered paint at three different stations on the course. Participants will be very colorful when they cross the finish line. The powder will wash out of clothing\, shoes\, and hair. The paint is non-toxic and will not harm you or the environment. You will need to bring protective eyewear\, to ensure the powder doesn&#39\;t get into your eyes during the race. *Money raised goes to support Paris Eagle High School Band.
LOCATION:Wood Street Park
UID:e.2208.725
SEQUENCE:3
DTSTAMP:20260423T092305Z
URL:https://business.parisarkansas.com/events/details/5k-eagle-color-run-05-16-2015-725
END:VEVENT

END:VCALENDAR
