BEGIN:VCALENDAR
VERSION:2.0
PRODID:-//ChamberMaster//Event Calendar 2.0//EN
METHOD:PUBLISH
X-PUBLISHED-TTL:P3D
REFRESH-INTERVAL:P3D
CALSCALE:GREGORIAN
BEGIN:VEVENT
DTSTART:20171007T140000Z
DTEND:20171007T210000Z
X-MICROSOFT-CDO-ALLDAYEVENT:FALSE
SUMMARY:38th Annual Frontier Day
DESCRIPTION:Fun for the whole family.Visit the kids zone\, craft booths \, FREE pumpkin patch\, Lawbreakers and Peacemakers reenactments\, great food\, live music\, jail\, antique photo booth\, pageant\, car show\, parade and more. Where yesterday meets today for a day.
X-ALT-DESC;FMTTYPE=text/html:Fun for the whole family.Visit the kids zone\, craft booths \, FREE pumpkin patch\, Lawbreakers and Peacemakers reenactments\, great food\, live music\, jail\, antique photo booth\, pageant\, car show\, parade and more. Where yesterday meets today for a day.
LOCATION:Downtown Square- Paris \, AR Pageant at PMS Parade will start at 9am and go from AAM (formally Cloyes) to Subway All events will be held on the square Rodeo will take place at the Paris Rodeo Arena at 7pm.
UID:e.2208.2210
SEQUENCE:3
DTSTAMP:20260421T080957Z
URL:https://business.parisarkansas.com/events/details/38th-annual-frontier-day-2210
END:VEVENT

END:VCALENDAR
