BEGIN:VCALENDAR
VERSION:2.0
PRODID:-//ChamberMaster//Event Calendar 2.0//EN
METHOD:PUBLISH
X-PUBLISHED-TTL:P3D
REFRESH-INTERVAL:P3D
CALSCALE:GREGORIAN
BEGIN:VEVENT
DTSTART:20161001T150000Z
DTEND:20161001T210000Z
X-MICROSOFT-CDO-ALLDAYEVENT:FALSE
SUMMARY:37th Annual Frontier Day
DESCRIPTION:Fun for the whole family. Live reenactments\, crafts \, quilt show\, cannon reenactments\, food\, live music\, jail\, antique photo booth\, pageant\, car show\, parade and more. Were yesterday meets today for a day.
X-ALT-DESC;FMTTYPE=text/html:Fun for the whole family. Live reenactments\, crafts \, quilt show\, cannon reenactments\, food\, live music\, jail\, antique photo booth\, pageant\, car show\, parade and more. Were yesterday meets today for a day.
LOCATION:Festival at North Logan County Fair Grounds Pageant at PMS Parade will start at 9am and go from MPG (formally Cloyes) to Subway Car show will be held on the square
UID:e.2208.1863
SEQUENCE:3
DTSTAMP:20260422T041806Z
URL:https://business.parisarkansas.com/events/details/37th-annual-frontier-day-10-01-2016-1863
END:VEVENT

END:VCALENDAR
