BEGIN:VCALENDAR
VERSION:2.0
PRODID:-//ChamberMaster//Event Calendar 2.0//EN
METHOD:PUBLISH
X-PUBLISHED-TTL:P3D
REFRESH-INTERVAL:P3D
CALSCALE:GREGORIAN
BEGIN:VEVENT
DTSTART:20170729T150000Z
DTEND:20170729T190000Z
X-MICROSOFT-CDO-ALLDAYEVENT:FALSE
SUMMARY:2017 Logan County Fair Pageant
DESCRIPTION:2017 LOGAN COUNTY FAIR PAGEANT
X-ALT-DESC;FMTTYPE=text/html:<u><strong>2017 LOGAN COUNTY FAIR PAGEANT</strong></u>
LOCATION:Logan County Fair Building
UID:e.2208.1973
SEQUENCE:3
DTSTAMP:20260421T144704Z
URL:https://business.parisarkansas.com/events/details/2017-logan-county-fair-pageant-1973
END:VEVENT

END:VCALENDAR
